BEGIN:VCALENDAR
VERSION:2.0
PRODID:-//ChamberMaster//Event Calendar 2.0//EN
METHOD:PUBLISH
X-PUBLISHED-TTL:P3D
REFRESH-INTERVAL:P3D
CALSCALE:GREGORIAN
BEGIN:VEVENT
DTSTART:20220118T163000Z
DTEND:20220118T180000Z
X-MICROSOFT-CDO-ALLDAYEVENT:FALSE
SUMMARY:Networking Luncheon
DESCRIPTION:In an abundance of caution\, we have decided to hold our networking luncheon via zoom in lieu of an in-person gathering. It will take place on January 18\, from 11:30 am to 1:00 pm. We will have a "pass the mic" session\, where all attendees will have the opportunity to introduce themselves.\n\n\n\nSign up today to be a part of this amazing event. A Zoom link will be sent to you on the day of the event.
X-ALT-DESC;FMTTYPE=text/html:In an abundance of caution\, we have decided to hold our networking luncheon via zoom in lieu of an in-person gathering. It will take place on January 18\, from 11:30 am to 1:00 pm. We will have a &quot\;pass the mic&quot\; session\, where all attendees will have the opportunity to introduce themselves.<br />\n<br />\nSign up today to be a part of this amazing event. A Zoom link will be sent to you on the day of the event.&nbsp\;
LOCATION:Zoom
UID:e.9219.97
SEQUENCE:3
DTSTAMP:20260423T053448Z
URL:https://members.pinecrestbusiness.com/events/details/networking-luncheon-01-18-2022-97
END:VEVENT

END:VCALENDAR
