BEGIN:VCALENDAR
VERSION:2.0
PRODID:-//ChamberMaster//Event Calendar 2.0//EN
METHOD:PUBLISH
X-PUBLISHED-TTL:P3D
REFRESH-INTERVAL:P3D
CALSCALE:GREGORIAN
BEGIN:VEVENT
DTSTART:20220621T153000Z
DTEND:20220621T170000Z
X-MICROSOFT-CDO-ALLDAYEVENT:FALSE
SUMMARY:Networking Luncheon
DESCRIPTION:Join us for our June networking luncheon at Anacapri (12669 S Dixie Hwy\, Pinecrest\, FL 33156) featuring guest speaker\, Village of Pinecrest Mayor Joe Corradino.
X-ALT-DESC;FMTTYPE=text/html:Join us for our June networking luncheon at Anacapri (12669 S Dixie Hwy\, Pinecrest\, FL 33156) featuring guest speaker\, Village of Pinecrest Mayor Joe&nbsp\;Corradino.
LOCATION:Anacapri Italian Restaurant - 12669 S Dixie Hwy\, Pinecrest\, FL 33156
UID:e.9219.102
SEQUENCE:3
DTSTAMP:20260422T205711Z
URL:https://members.pinecrestbusiness.com/events/details/networking-luncheon-06-21-2022-102
END:VEVENT

END:VCALENDAR
